BEGIN:VCALENDAR
VERSION:2.0
PRODID:-//Squarespace Inc/Squarespace 6//v6//EN
BEGIN:VEVENT
UID:5fd4a6f2154d727871bed7ed@squarespace.com
DTSTAMP:20201215T195150Z
DTSTART:20210107T190000Z
DTEND:20210107T210000Z
SUMMARY:Aerosol Colour &amp\; Pattern Workshop for Teens
GEO:-34.886239;138.593678
LOCATION:Newmarch Gallery\, 128 Prospect Road\, Prospect\, SA\, 5082\, Aust
 ralia
END:VEVENT
END:VCALENDAR
