BEGIN:VCALENDAR
VERSION:2.0
PRODID:-//Squarespace Inc/Squarespace 6//v6//EN
BEGIN:VEVENT
UID:5fd4956e226e9048fa892262@squarespace.com
DTSTAMP:20201215T195314Z
DTSTART:20210109T163000Z
DTEND:20210109T180000Z
SUMMARY:Botanical Colour Workshop for Kids
GEO:-34.886239;138.593678
LOCATION:Newmarch Gallery\, 128 Prospect Road\, Prospect\, SA\, 5082\, Aust
 ralia
END:VEVENT
END:VCALENDAR
