BEGIN:VCALENDAR
VERSION:2.0
PRODID:-//Squarespace Inc/Squarespace 6//v6//EN
BEGIN:VEVENT
UID:5fd49e5889566e781f22bf32@squarespace.com
DTSTAMP:20201215T195330Z
DTSTART:20210110T003000Z
DTEND:20210110T023000Z
SUMMARY:Botanical Patterns Workshop for Adults
GEO:-34.886239;138.593678
LOCATION:Newmarch Gallery\, 128 Prospect Road\, Prospect\, SA\, 5082\, Aust
 ralia
END:VEVENT
END:VCALENDAR
