BEGIN:VCALENDAR
VERSION:2.0
PRODID:-//Squarespace Inc/Squarespace 6//v6//EN
BEGIN:VEVENT
UID:5fd408a9b1c3f31c7a48d6dc@squarespace.com
DTSTAMP:20210104T103224Z
DTSTART:20201009T133000Z
DTEND:20201009T150000Z
SUMMARY:Botanical Sketching Workshop for Kids
GEO:-34.886239;138.593678
LOCATION:Newmarch Gallery\, 128 Prospect Road\, Prospect\, SA\, 5082\, Aust
 ralia
END:VEVENT
END:VCALENDAR
